Package: MetID Version: 1.26.0 Command: /Library/Frameworks/R.framework/Resources/bin/R CMD build --keep-empty-dirs --no-resave-data MetID StartedAt: 2025-04-21 17:27:04 -0400 (Mon, 21 Apr 2025) EndedAt: 2025-04-21 17:27:37 -0400 (Mon, 21 Apr 2025) EllapsedTime: 33.1 seconds RetCode: 0 Status: OK PackageFile: MetID_1.26.0.tar.gz PackageFileSize: 1.504 MiB