Package: MetID Version: 1.26.0 Command: /Library/Frameworks/R.framework/Resources/bin/R CMD build --keep-empty-dirs --no-resave-data MetID StartedAt: 2025-10-07 04:20:55 -0400 (Tue, 07 Oct 2025) EndedAt: 2025-10-07 04:21:30 -0400 (Tue, 07 Oct 2025) EllapsedTime: 34.7 seconds RetCode: 0 Status: OK PackageFile: MetID_1.26.0.tar.gz PackageFileSize: 1.504 MiB