Package: Mergeomics Version: 1.34.0 Command: /home/biocbuild/R/R/bin/R CMD check --install=check:Mergeomics.install-out.txt --library=/home/biocbuild/R/R/site-library --no-vignettes --timings Mergeomics_1.34.0.tar.gz StartedAt: 2025-01-31 07:51:09 -0000 (Fri, 31 Jan 2025) EndedAt: 2025-01-31 08:04:09 -0000 (Fri, 31 Jan 2025) EllapsedTime: 780.1 seconds RetCode: 0 Status: OK CheckDir: Mergeomics.Rcheck Warnings: 0