Package: Melissa Version: 1.22.0 Command: /home/biocbuild/R/R/bin/R CMD check --install=check:Melissa.install-out.txt --library=/home/biocbuild/R/R/site-library --no-vignettes --timings Melissa_1.22.0.tar.gz StartedAt: 2025-01-31 07:50:59 -0000 (Fri, 31 Jan 2025) EndedAt: 2025-01-31 07:53:46 -0000 (Fri, 31 Jan 2025) EllapsedTime: 167.3 seconds RetCode: 0 Status: OK CheckDir: Melissa.Rcheck Warnings: 0