Package: Melissa Version: 1.22.0 Command: /home/biocbuild/R/R/bin/R CMD build --keep-empty-dirs --no-resave-data Melissa StartedAt: 2025-02-04 00:45:23 -0000 (Tue, 04 Feb 2025) EndedAt: 2025-02-04 00:49:44 -0000 (Tue, 04 Feb 2025) EllapsedTime: 261.1 seconds RetCode: 0 Status: OK PackageFile: Melissa_1.22.0.tar.gz PackageFileSize: 2.469 MiB