Package: MeasurementError.cor Version: 1.82.0 Command: /home/biocbuild/R/R/bin/R CMD INSTALL MeasurementError.cor StartedAt: 2025-11-17 21:03:47 -0000 (Mon, 17 Nov 2025) EndedAt: 2025-11-17 21:04:25 -0000 (Mon, 17 Nov 2025) EllapsedTime: 37.6 seconds RetCode: 0 Status: OK