Package: MeasurementError.cor Version: 1.82.0 Command: /home/biocbuild/R/R/bin/R CMD build --keep-empty-dirs --no-resave-data MeasurementError.cor StartedAt: 2025-11-18 02:54:08 -0000 (Tue, 18 Nov 2025) EndedAt: 2025-11-18 02:54:14 -0000 (Tue, 18 Nov 2025) EllapsedTime: 6.0 seconds RetCode: 0 Status: OK PackageFile: MeasurementError.cor_1.82.0.tar.gz PackageFileSize: 145.9 KiB