Package: MatrixQCvis Version: 1.16.0 Maintainer: Thomas Naake MaintainerEmail: thomasnaake at googlemail.com git_url: https://git.bioconductor.org/packages/MatrixQCvis git_branch: RELEASE_3_21 git_last_commit: 0abd041 git_last_commit_date: 2025-04-15 12:30:49 -0400 (Tue, 15 Apr 2025)