Package: MatrixGenerics Version: 1.20.0 Command: /home/biocbuild/bbs-3.21-bioc/R/bin/R CMD build --keep-empty-dirs --no-resave-data MatrixGenerics StartedAt: 2025-10-15 18:19:38 -0400 (Wed, 15 Oct 2025) EndedAt: 2025-10-15 18:19:39 -0400 (Wed, 15 Oct 2025) EllapsedTime: 1.0 seconds RetCode: 0 Status: OK PackageFile: MatrixGenerics_1.20.0.tar.gz PackageFileSize: 31.23 KiB