Package: MassSpecWavelet Version: 1.72.1 Command: /home/biocbuild/R/R/bin/R CMD INSTALL MassSpecWavelet StartedAt: 2025-01-30 20:05:46 -0000 (Thu, 30 Jan 2025) EndedAt: 2025-01-30 20:05:55 -0000 (Thu, 30 Jan 2025) EllapsedTime: 8.8 seconds RetCode: 0 Status: OK