Package: MassArray Version: 1.60.0 Command: rm -rf MassArray.buildbin-libdir && mkdir MassArray.buildbin-libdir && E:\biocbuild\bbs-3.21-bioc\R\bin\R.exe CMD INSTALL --build --library=MassArray.buildbin-libdir MassArray_1.60.0.tar.gz StartedAt: 2025-08-15 09:38:07 -0400 (Fri, 15 Aug 2025) EndedAt: 2025-08-15 09:38:51 -0400 (Fri, 15 Aug 2025) EllapsedTime: 43.9 seconds RetCode: 0 Status: OK PackageFile: MassArray_1.60.0.zip PackageFileSize: 548.1 KiB