Package: Macarron Version: 1.10.0 Command: /home/biocbuild/R/R/bin/R CMD check --install=check:Macarron.install-out.txt --library=/home/biocbuild/R/R/site-library --no-vignettes --timings Macarron_1.10.0.tar.gz StartedAt: 2025-01-31 07:41:34 -0000 (Fri, 31 Jan 2025) EndedAt: 2025-01-31 08:00:06 -0000 (Fri, 31 Jan 2025) EllapsedTime: 1111.7 seconds RetCode: 1 Status: ERROR CheckDir: Macarron.Rcheck Warnings: NA