Package: Macarron Version: 1.10.0 Command: /home/biocbuild/R/R/bin/R CMD build --keep-empty-dirs --no-resave-data Macarron StartedAt: 2025-01-31 00:35:57 -0000 (Fri, 31 Jan 2025) EndedAt: 2025-01-31 00:42:19 -0000 (Fri, 31 Jan 2025) EllapsedTime: 382.2 seconds RetCode: 0 Status: OK PackageFile: Macarron_1.10.0.tar.gz PackageFileSize: 658.9 KiB