Package: Macarron Version: 1.12.2 Command: chmod a+r Macarron -R && E:\biocbuild\bbs-3.21-bioc\R\bin\R.exe CMD build --keep-empty-dirs --no-resave-data Macarron StartedAt: 2025-08-14 20:06:04 -0400 (Thu, 14 Aug 2025) EndedAt: 2025-08-14 20:11:53 -0400 (Thu, 14 Aug 2025) EllapsedTime: 348.4 seconds RetCode: 0 Status: OK PackageFile: Macarron_1.12.2.tar.gz PackageFileSize: 591.4 KiB