Package: MWASTools Version: 1.32.0 Command: chmod a+r MWASTools -R && E:\biocbuild\bbs-3.21-bioc\R\bin\R.exe CMD build --keep-empty-dirs --no-resave-data MWASTools StartedAt: 2025-08-14 20:47:37 -0400 (Thu, 14 Aug 2025) EndedAt: 2025-08-14 20:49:25 -0400 (Thu, 14 Aug 2025) EllapsedTime: 108.2 seconds RetCode: 0 Status: OK PackageFile: MWASTools_1.32.0.tar.gz PackageFileSize: 1.7 MiB