Package: MWASTools Version: 1.32.0 Command: rm -rf MWASTools.buildbin-libdir && mkdir MWASTools.buildbin-libdir && E:\biocbuild\bbs-3.21-bioc\R\bin\R.exe CMD INSTALL --build --library=MWASTools.buildbin-libdir MWASTools_1.32.0.tar.gz StartedAt: 2025-08-15 09:49:19 -0400 (Fri, 15 Aug 2025) EndedAt: 2025-08-15 09:50:13 -0400 (Fri, 15 Aug 2025) EllapsedTime: 54.7 seconds RetCode: 0 Status: OK PackageFile: MWASTools_1.32.0.zip PackageFileSize: 1.565 MiB