Package: MVCClass Version: 1.82.0 Maintainer: Elizabeth Whalen MaintainerEmail: ewhalen at hsph.harvard.edu git_url: https://git.bioconductor.org/packages/MVCClass git_branch: RELEASE_3_21 git_last_commit: eb7e11b git_last_commit_date: 2025-04-15 09:35:29 -0400 (Tue, 15 Apr 2025)