Package: MSstatsTMT Version: 2.16.0 Command: chmod a+r MSstatsTMT -R && E:\biocbuild\bbs-3.21-bioc\R\bin\R.exe CMD build --keep-empty-dirs --no-resave-data MSstatsTMT StartedAt: 2025-08-14 20:43:13 -0400 (Thu, 14 Aug 2025) EndedAt: 2025-08-14 20:44:33 -0400 (Thu, 14 Aug 2025) EllapsedTime: 79.5 seconds RetCode: 0 Status: OK PackageFile: MSstatsTMT_2.16.0.tar.gz PackageFileSize: 1.531 MiB