Package: MSstatsTMT Version: 2.16.0 Command: /Library/Frameworks/R.framework/Resources/bin/R CMD INSTALL MSstatsTMT StartedAt: 2025-04-21 15:12:36 -0400 (Mon, 21 Apr 2025) EndedAt: 2025-04-21 15:13:02 -0400 (Mon, 21 Apr 2025) EllapsedTime: 25.9 seconds RetCode: 0 Status: OK