Package: MSstatsTMT Version: 2.16.0 Command: /Library/Frameworks/R.framework/Resources/bin/R CMD build --keep-empty-dirs --no-resave-data MSstatsTMT StartedAt: 2025-04-21 17:40:49 -0400 (Mon, 21 Apr 2025) EndedAt: 2025-04-21 17:42:03 -0400 (Mon, 21 Apr 2025) EllapsedTime: 74.4 seconds RetCode: 0 Status: OK PackageFile: MSstatsTMT_2.16.0.tar.gz PackageFileSize: 1.531 MiB