Package: MSstatsTMT Version: 2.16.0 Command: /home/biocbuild/R/R/bin/R CMD INSTALL MSstatsTMT StartedAt: 2025-05-12 20:23:35 -0000 (Mon, 12 May 2025) EndedAt: 2025-05-12 20:23:51 -0000 (Mon, 12 May 2025) EllapsedTime: 16.6 seconds RetCode: 0 Status: OK