Package: MSstatsShiny Version: 1.10.0 Command: /Library/Frameworks/R.framework/Resources/bin/R CMD check --install=check:MSstatsShiny.install-out.txt --library=/Library/Frameworks/R.framework/Resources/library --no-vignettes --timings MSstatsShiny_1.10.0.tar.gz StartedAt: 2025-04-21 22:10:13 -0400 (Mon, 21 Apr 2025) EndedAt: 2025-04-21 22:14:20 -0400 (Mon, 21 Apr 2025) EllapsedTime: 246.7 seconds RetCode: 0 Status: OK CheckDir: MSstatsShiny.Rcheck Warnings: 0