Package: MSstatsShiny Version: 1.10.0 Command: /Library/Frameworks/R.framework/Resources/bin/R CMD build --keep-empty-dirs --no-resave-data MSstatsShiny StartedAt: 2025-04-21 17:40:33 -0400 (Mon, 21 Apr 2025) EndedAt: 2025-04-21 17:41:22 -0400 (Mon, 21 Apr 2025) EllapsedTime: 49.1 seconds RetCode: 0 Status: OK PackageFile: MSstatsShiny_1.10.0.tar.gz PackageFileSize: 2.16 MiB