Package: MSstatsShiny Version: 1.10.0 Command: /Library/Frameworks/R.framework/Resources/bin/R CMD INSTALL MSstatsShiny StartedAt: 2025-04-21 15:08:44 -0400 (Mon, 21 Apr 2025) EndedAt: 2025-04-21 15:08:54 -0400 (Mon, 21 Apr 2025) EllapsedTime: 10.3 seconds RetCode: 0 Status: OK