Package: MSstatsResponse Version: 1.0.0 Command: /home/biocbuild/bbs-3.22-bioc/R/bin/R CMD INSTALL MSstatsResponse StartedAt: 2025-11-05 15:16:40 -0500 (Wed, 05 Nov 2025) EndedAt: 2025-11-05 15:16:49 -0500 (Wed, 05 Nov 2025) EllapsedTime: 9.2 seconds RetCode: 0 Status: OK