Package: MSstatsResponse Version: 1.0.0 Command: /home/biocbuild/bbs-3.22-bioc/R/bin/R CMD build --keep-empty-dirs --no-resave-data --md5 MSstatsResponse StartedAt: 2025-11-05 19:04:54 -0500 (Wed, 05 Nov 2025) EndedAt: 2025-11-05 19:05:58 -0500 (Wed, 05 Nov 2025) EllapsedTime: 64.1 seconds RetCode: 0 Status: OK PackageFile: MSstatsResponse_1.0.0.tar.gz PackageFileSize: 8.152 MiB