Package: MSstatsQCgui Version: 1.26.0 Command: /home/biocbuild/R/R/bin/R CMD check --install=check:MSstatsQCgui.install-out.txt --library=/home/biocbuild/R/R/site-library --no-vignettes --timings MSstatsQCgui_1.26.0.tar.gz StartedAt: 2025-01-31 08:28:18 -0000 (Fri, 31 Jan 2025) EndedAt: 2025-01-31 08:33:11 -0000 (Fri, 31 Jan 2025) EllapsedTime: 292.4 seconds RetCode: 0 Status: OK CheckDir: MSstatsQCgui.Rcheck Warnings: 0