Package: MSstatsQCgui Version: 1.28.0 Command: /Library/Frameworks/R.framework/Resources/bin/R CMD check --install=check:MSstatsQCgui.install-out.txt --library=/Library/Frameworks/R.framework/Resources/library --no-vignettes --timings MSstatsQCgui_1.28.0.tar.gz StartedAt: 2025-05-16 06:51:32 -0400 (Fri, 16 May 2025) EndedAt: 2025-05-16 07:00:00 -0400 (Fri, 16 May 2025) EllapsedTime: 508.3 seconds RetCode: 0 Status: OK CheckDir: MSstatsQCgui.Rcheck Warnings: 0