Package: MSstatsQCgui Version: 1.28.0 Command: /Library/Frameworks/R.framework/Resources/bin/R CMD build --keep-empty-dirs --no-resave-data MSstatsQCgui StartedAt: 2025-05-15 21:00:25 -0400 (Thu, 15 May 2025) EndedAt: 2025-05-15 21:01:57 -0400 (Thu, 15 May 2025) EllapsedTime: 91.8 seconds RetCode: 0 Status: OK PackageFile: MSstatsQCgui_1.28.0.tar.gz PackageFileSize: 75.36 KiB