Package: MSstatsQCgui Version: 1.28.0 Command: rm -rf MSstatsQCgui.buildbin-libdir && mkdir MSstatsQCgui.buildbin-libdir && /Users/biocbuild/BBS/utils/build-universal.sh MSstatsQCgui_1.28.0.tar.gz /Library/Frameworks/R.framework/Resources/bin/R MSstatsQCgui.buildbin-libdir StartedAt: 2025-05-16 13:09:38 -0400 (Fri, 16 May 2025) EndedAt: 2025-05-16 13:11:14 -0400 (Fri, 16 May 2025) EllapsedTime: 95.5 seconds RetCode: 0 Status: OK PackageFile: MSstatsQCgui_1.28.0.tgz PackageFileSize: 85.34 KiB