Package: MSstatsQC Version: 2.24.0 Command: /home/biocbuild/R/R/bin/R CMD INSTALL MSstatsQC StartedAt: 2025-01-30 20:46:41 -0000 (Thu, 30 Jan 2025) EndedAt: 2025-01-30 20:47:28 -0000 (Thu, 30 Jan 2025) EllapsedTime: 47.1 seconds RetCode: 0 Status: OK