Package: MSstatsQC Version: 2.26.0 Command: /home/biocbuild/R/R/bin/R CMD INSTALL MSstatsQC StartedAt: 2025-04-21 20:52:44 -0000 (Mon, 21 Apr 2025) EndedAt: 2025-04-21 20:53:41 -0000 (Mon, 21 Apr 2025) EllapsedTime: 57.3 seconds RetCode: 0 Status: OK