Package: MSstatsQC Version: 2.26.0 Command: /home/biocbuild/R/R/bin/R CMD build --keep-empty-dirs --no-resave-data MSstatsQC StartedAt: 2025-04-22 02:42:50 -0000 (Tue, 22 Apr 2025) EndedAt: 2025-04-22 02:44:31 -0000 (Tue, 22 Apr 2025) EllapsedTime: 101.1 seconds RetCode: 0 Status: OK PackageFile: MSstatsQC_2.26.0.tar.gz PackageFileSize: 2.686 MiB