Package: MSstatsQC Version: 2.26.0 Command: /Library/Frameworks/R.framework/Resources/bin/R CMD build --keep-empty-dirs --no-resave-data MSstatsQC StartedAt: 2025-04-21 17:05:21 -0400 (Mon, 21 Apr 2025) EndedAt: 2025-04-21 17:05:51 -0400 (Mon, 21 Apr 2025) EllapsedTime: 29.4 seconds RetCode: 0 Status: OK PackageFile: MSstatsQC_2.26.0.tar.gz PackageFileSize: 2.295 MiB