Package: MSstatsQC Version: 2.24.0 Command: /Library/Frameworks/R.framework/Resources/bin/R CMD check --install=check:MSstatsQC.install-out.txt --library=/Library/Frameworks/R.framework/Resources/library --no-vignettes --timings MSstatsQC_2.24.0.tar.gz StartedAt: 2025-02-01 02:32:43 -0500 (Sat, 01 Feb 2025) EndedAt: 2025-02-01 02:37:39 -0500 (Sat, 01 Feb 2025) EllapsedTime: 295.6 seconds RetCode: 0 Status: OK CheckDir: MSstatsQC.Rcheck Warnings: 0