Package: MSstatsQC Version: 2.26.0 Command: rm -rf MSstatsQC.buildbin-libdir && mkdir MSstatsQC.buildbin-libdir && /Users/biocbuild/BBS/utils/build-universal.sh MSstatsQC_2.26.0.tar.gz /Library/Frameworks/R.framework/Resources/bin/R MSstatsQC.buildbin-libdir StartedAt: 2025-04-29 12:58:46 -0400 (Tue, 29 Apr 2025) EndedAt: 2025-04-29 12:59:04 -0400 (Tue, 29 Apr 2025) EllapsedTime: 18.2 seconds RetCode: 0 Status: OK PackageFile: MSstatsQC_2.26.0.tgz PackageFileSize: 2.37 MiB