############################################################################## ############################################################################## ### ### Running command: ### ### rm -rf MSstatsQC.buildbin-libdir && mkdir MSstatsQC.buildbin-libdir && /Users/biocbuild/BBS/utils/build-universal.sh MSstatsQC_2.26.0.tar.gz /Library/Frameworks/R.framework/Resources/bin/R MSstatsQC.buildbin-libdir ### ############################################################################## ############################################################################## >>>>>>> >>>>>>> INSTALLATION WITH 'R CMD INSTALL --preclean --no-multiarch --library=MSstatsQC.buildbin-libdir MSstatsQC_2.26.0.tar.gz' >>>>>>> * installing *source* package ‘MSstatsQC’ ... ** this is package ‘MSstatsQC’ version ‘2.26.0’ ** using staged installation ** R ** data *** moving datasets to lazyload DB ** inst ** byte-compile and prepare package for lazy loading ** help *** installing help indices ** building package indices ** installing vignettes ** testing if installed package can be loaded from temporary location ** testing if installed package can be loaded from final location ** testing if installed package keeps a record of temporary installation path * DONE (MSstatsQC) chown: MSstatsQC.buildbin-libdir/MSstatsQC/R/MSstatsQC.rdx: Operation not permitted chown: MSstatsQC.buildbin-libdir/MSstatsQC/R/MSstatsQC.rdb: Operation not permitted chown: MSstatsQC.buildbin-libdir/MSstatsQC/R/MSstatsQC: Operation not permitted chown: MSstatsQC.buildbin-libdir/MSstatsQC/R: Operation not permitted chown: MSstatsQC.buildbin-libdir/MSstatsQC/Meta/vignette.rds: Operation not permitted chown: MSstatsQC.buildbin-libdir/MSstatsQC/Meta/data.rds: Operation not permitted chown: MSstatsQC.buildbin-libdir/MSstatsQC/Meta/links.rds: Operation not permitted chown: MSstatsQC.buildbin-libdir/MSstatsQC/Meta/features.rds: Operation not permitted chown: MSstatsQC.buildbin-libdir/MSstatsQC/Meta/nsInfo.rds: Operation not permitted chown: MSstatsQC.buildbin-libdir/MSstatsQC/Meta/package.rds: Operation not permitted chown: MSstatsQC.buildbin-libdir/MSstatsQC/Meta/hsearch.rds: Operation not permitted chown: MSstatsQC.buildbin-libdir/MSstatsQC/Meta/Rd.rds: Operation not permitted chown: MSstatsQC.buildbin-libdir/MSstatsQC/Meta: Operation not permitted chown: MSstatsQC.buildbin-libdir/MSstatsQC/NAMESPACE: Operation not permitted chown: MSstatsQC.buildbin-libdir/MSstatsQC/html/R.css: Operation not permitted chown: MSstatsQC.buildbin-libdir/MSstatsQC/html/00Index.html: Operation not permitted chown: MSstatsQC.buildbin-libdir/MSstatsQC/html: Operation not permitted chown: MSstatsQC.buildbin-libdir/MSstatsQC/DESCRIPTION: Operation not permitted chown: MSstatsQC.buildbin-libdir/MSstatsQC/NEWS: Operation not permitted chown: MSstatsQC.buildbin-libdir/MSstatsQC/INDEX: Operation not permitted chown: MSstatsQC.buildbin-libdir/MSstatsQC/doc/index.html: Operation not permitted chown: MSstatsQC.buildbin-libdir/MSstatsQC/doc/MSstatsQC.Rmd: Operation not permitted chown: MSstatsQC.buildbin-libdir/MSstatsQC/doc/MSstatsQC.R: Operation not permitted chown: MSstatsQC.buildbin-libdir/MSstatsQC/doc/MSstatsQC.html: Operation not permitted chown: MSstatsQC.buildbin-libdir/MSstatsQC/doc: Operation not permitted chown: MSstatsQC.buildbin-libdir/MSstatsQC/data/Rdata.rds: Operation not permitted chown: MSstatsQC.buildbin-libdir/MSstatsQC/data/Rdata.rdx: Operation not permitted chown: MSstatsQC.buildbin-libdir/MSstatsQC/data/Rdata.rdb: Operation not permitted chown: MSstatsQC.buildbin-libdir/MSstatsQC/data: Operation not permitted chown: MSstatsQC.buildbin-libdir/MSstatsQC/help/AnIndex: Operation not permitted chown: MSstatsQC.buildbin-libdir/MSstatsQC/help/aliases.rds: Operation not permitted chown: MSstatsQC.buildbin-libdir/MSstatsQC/help/MSstatsQC.rdx: Operation not permitted chown: MSstatsQC.buildbin-libdir/MSstatsQC/help/paths.rds: Operation not permitted chown: MSstatsQC.buildbin-libdir/MSstatsQC/help/MSstatsQC.rdb: Operation not permitted chown: MSstatsQC.buildbin-libdir/MSstatsQC/help: Operation not permitted chown: MSstatsQC.buildbin-libdir/MSstatsQC: Operation not permitted