Package: MSstatsPTM Version: 2.8.1 Command: /home/biocbuild/R/R/bin/R CMD INSTALL MSstatsPTM StartedAt: 2025-01-30 20:56:18 -0000 (Thu, 30 Jan 2025) EndedAt: 2025-01-30 20:56:52 -0000 (Thu, 30 Jan 2025) EllapsedTime: 34.5 seconds RetCode: 0 Status: OK