Package: MSstatsLiP Version: 1.14.1 Command: chmod a+r MSstatsLiP -R && E:\biocbuild\bbs-3.21-bioc\R\bin\R.exe CMD build --keep-empty-dirs --no-resave-data MSstatsLiP StartedAt: 2025-08-14 20:41:33 -0400 (Thu, 14 Aug 2025) EndedAt: 2025-08-14 20:43:18 -0400 (Thu, 14 Aug 2025) EllapsedTime: 105.5 seconds RetCode: 0 Status: OK PackageFile: MSstatsLiP_1.14.1.tar.gz PackageFileSize: 1.256 MiB