Package: MSstatsBioNet Version: 1.2.0 Command: /home/biocbuild/R/R/bin/R CMD build --keep-empty-dirs --no-resave-data MSstatsBioNet StartedAt: 2025-11-21 04:16:19 -0000 (Fri, 21 Nov 2025) EndedAt: 2025-11-21 04:16:56 -0000 (Fri, 21 Nov 2025) EllapsedTime: 37.0 seconds RetCode: 0 Status: OK PackageFile: MSstatsBioNet_1.2.0.tar.gz PackageFileSize: 557.9 KiB