Package: MSstatsBioNet Version: 1.2.0 Command: /home/biocbuild/bbs-3.22-bioc/R/bin/R CMD INSTALL MSstatsBioNet StartedAt: 2025-11-17 18:15:54 -0500 (Mon, 17 Nov 2025) EndedAt: 2025-11-17 18:16:11 -0500 (Mon, 17 Nov 2025) EllapsedTime: 16.3 seconds RetCode: 0 Status: OK