Package: MSstatsBioNet Version: 1.2.0 Command: /home/biocbuild/bbs-3.22-bioc/R/bin/R CMD check --install=check:MSstatsBioNet.install-out.txt --library=/home/biocbuild/bbs-3.22-bioc/R/site-library --timings MSstatsBioNet_1.2.0.tar.gz StartedAt: 2025-11-18 06:23:45 -0500 (Tue, 18 Nov 2025) EndedAt: 2025-11-18 06:25:12 -0500 (Tue, 18 Nov 2025) EllapsedTime: 87.1 seconds RetCode: 0 Status: OK CheckDir: MSstatsBioNet.Rcheck Warnings: 0