Package: MSstatsBioNet Version: 1.2.0 Command: /home/biocbuild/bbs-3.22-bioc/R/bin/R CMD build --keep-empty-dirs --no-resave-data --md5 MSstatsBioNet StartedAt: 2025-11-17 22:19:15 -0500 (Mon, 17 Nov 2025) EndedAt: 2025-11-17 22:19:40 -0500 (Mon, 17 Nov 2025) EllapsedTime: 25.0 seconds RetCode: 0 Status: OK PackageFile: MSstatsBioNet_1.2.0.tar.gz PackageFileSize: 510.2 KiB