Package: MSstatsBioNet Version: 1.0.0 Command: /home/biocbuild/bbs-3.21-bioc/R/bin/R CMD INSTALL MSstatsBioNet StartedAt: 2025-10-15 15:57:48 -0400 (Wed, 15 Oct 2025) EndedAt: 2025-10-15 15:58:02 -0400 (Wed, 15 Oct 2025) EllapsedTime: 14.1 seconds RetCode: 0 Status: OK