Package: MSstatsBioNet Version: 1.0.0 Command: /home/biocbuild/bbs-3.21-bioc/R/bin/R CMD build --keep-empty-dirs --no-resave-data MSstatsBioNet StartedAt: 2025-10-15 18:45:08 -0400 (Wed, 15 Oct 2025) EndedAt: 2025-10-15 18:45:30 -0400 (Wed, 15 Oct 2025) EllapsedTime: 22.0 seconds RetCode: 0 Status: OK PackageFile: MSstatsBioNet_1.0.0.tar.gz PackageFileSize: 277.3 KiB