Package: MSstatsBioNet Version: 1.0.0 Command: /home/biocbuild/R/R/bin/R CMD INSTALL MSstatsBioNet StartedAt: 2025-09-29 20:27:07 -0000 (Mon, 29 Sep 2025) EndedAt: 2025-09-29 20:27:24 -0000 (Mon, 29 Sep 2025) EllapsedTime: 17.6 seconds RetCode: 0 Status: OK