Package: MSstatsBioNet Version: 1.0.0 Command: /home/biocbuild/R/R/bin/R CMD build --keep-empty-dirs --no-resave-data MSstatsBioNet StartedAt: 2025-09-30 03:33:19 -0000 (Tue, 30 Sep 2025) EndedAt: 2025-09-30 03:33:50 -0000 (Tue, 30 Sep 2025) EllapsedTime: 31.0 seconds RetCode: 0 Status: OK PackageFile: MSstatsBioNet_1.0.0.tar.gz PackageFileSize: 302.6 KiB