Package: MSstatsBioNet Version: 1.0.0 Command: rm -rf MSstatsBioNet.buildbin-libdir && mkdir MSstatsBioNet.buildbin-libdir && /Users/biocbuild/BBS/utils/build-universal.sh MSstatsBioNet_1.0.0.tar.gz /Library/Frameworks/R.framework/Resources/bin/R MSstatsBioNet.buildbin-libdir StartedAt: 2025-10-11 21:14:57 -0400 (Sat, 11 Oct 2025) EndedAt: 2025-10-11 21:15:16 -0400 (Sat, 11 Oct 2025) EllapsedTime: 19.2 seconds RetCode: 0 Status: OK PackageFile: MSstatsBioNet_1.0.0.tgz PackageFileSize: 324.2 KiB