Package: MSstatsBig Version: 1.4.0 Command: /home/biocbuild/R/R/bin/R CMD check --install=check:MSstatsBig.install-out.txt --library=/home/biocbuild/R/R/site-library --no-vignettes --timings MSstatsBig_1.4.0.tar.gz StartedAt: 2025-02-04 09:08:23 -0000 (Tue, 04 Feb 2025) EndedAt: 2025-02-04 09:09:46 -0000 (Tue, 04 Feb 2025) EllapsedTime: 83.1 seconds RetCode: 0 Status: OK CheckDir: MSstatsBig.Rcheck Warnings: 0