Package: MSstatsBig Version: 1.6.0 Command: rm -rf MSstatsBig.buildbin-libdir && mkdir MSstatsBig.buildbin-libdir && /Users/biocbuild/BBS/utils/build-universal.sh MSstatsBig_1.6.0.tar.gz /Library/Frameworks/R.framework/Resources/bin/R MSstatsBig.buildbin-libdir StartedAt: 2025-10-03 13:54:11 -0400 (Fri, 03 Oct 2025) EndedAt: 2025-10-03 13:54:55 -0400 (Fri, 03 Oct 2025) EllapsedTime: 44.2 seconds RetCode: 0 Status: OK PackageFile: MSstatsBig_1.6.0.tgz PackageFileSize: 95.21 KiB